BEGIN:VCALENDAR
VERSION:2.0
PRODID:-//Tenant Union Flatbush - ECPv6.15.20//NONSGML v1.0//EN
CALSCALE:GREGORIAN
METHOD:PUBLISH
X-ORIGINAL-URL:https://tenantunionflatbush.com
X-WR-CALDESC:Events for Tenant Union Flatbush
REFRESH-INTERVAL;VALUE=DURATION:PT1H
X-Robots-Tag:noindex
X-PUBLISHED-TTL:PT1H
BEGIN:VTIMEZONE
TZID:America/New_York
BEGIN:DAYLIGHT
TZOFFSETFROM:-0500
TZOFFSETTO:-0400
TZNAME:EDT
DTSTART:20250309T070000
END:DAYLIGHT
BEGIN:STANDARD
TZOFFSETFROM:-0400
TZOFFSETTO:-0500
TZNAME:EST
DTSTART:20251102T060000
END:STANDARD
BEGIN:DAYLIGHT
TZOFFSETFROM:-0500
TZOFFSETTO:-0400
TZNAME:EDT
DTSTART:20260308T070000
END:DAYLIGHT
BEGIN:STANDARD
TZOFFSETFROM:-0400
TZOFFSETTO:-0500
TZNAME:EST
DTSTART:20261101T060000
END:STANDARD
BEGIN:DAYLIGHT
TZOFFSETFROM:-0500
TZOFFSETTO:-0400
TZNAME:EDT
DTSTART:20270314T070000
END:DAYLIGHT
BEGIN:STANDARD
TZOFFSETFROM:-0400
TZOFFSETTO:-0500
TZNAME:EST
DTSTART:20271107T060000
END:STANDARD
END:VTIMEZONE
BEGIN:VEVENT
DTSTART;TZID=America/New_York:20260423T180000
DTEND;TZID=America/New_York:20260423T193000
DTSTAMP:20260423T025406
CREATED:20260330T042052Z
LAST-MODIFIED:20260412T151926Z
UID:159-1776967200-1776972600@tenantunionflatbush.com
SUMMARY:TUF April Tenant Meeting
DESCRIPTION:Our March Tenant Union Flatbush (TUF) meeting is next week! \nWhen: Thursday\, April 23 @ 6-7:30 PM\nWhere: Cortelyou Library Branch\, 1305 Cortelyou Road (Google Map) \nMeeting Agenda:\n\nBuild tenant power in Flatbush!\nDiscuss what’s happening in your building.\nSupport buildings in active fights.\nSetting our goals for the coming months.\nDefining how we show up for neighbors in crisis.\n\nRSVP HERE\n[Download TUF Monthly Meeting Flier] \n \n 
URL:https://tenantunionflatbush.com/event/tuf-april-tenant-meeting/
LOCATION:Cortelyou Library Branch\, 1305 Cortelyou Road\, Brooklyn\, NY\, 11226\, United States
CATEGORIES:Monthly Meeting
ATTACH;FMTTYPE=image/jpeg:https://tenantunionflatbush.com/wp-content/uploads/2026/03/WhatsApp-Image-2026-03-26-at-19.50.57-scaled.jpeg
ORGANIZER;CN="Tenant Union Flatbush":MAILTO:organize@tenantunionflatbush.com
END:VEVENT
END:VCALENDAR